BEGIN:VCALENDAR
VERSION:2.0
PRODID:-//Ki Centrum - ECPv6.8.2.1//NONSGML v1.0//EN
CALSCALE:GREGORIAN
METHOD:PUBLISH
X-WR-CALNAME:Ki Centrum
X-ORIGINAL-URL:https://kicentrum.nl
X-WR-CALDESC:Evenementen voor Ki Centrum
REFRESH-INTERVAL;VALUE=DURATION:PT1H
X-Robots-Tag:noindex
X-PUBLISHED-TTL:PT1H
BEGIN:VTIMEZONE
TZID:Europe/Amsterdam
BEGIN:DAYLIGHT
TZOFFSETFROM:+0100
TZOFFSETTO:+0200
TZNAME:CEST
DTSTART:20250330T010000
END:DAYLIGHT
BEGIN:STANDARD
TZOFFSETFROM:+0200
TZOFFSETTO:+0100
TZNAME:CET
DTSTART:20251026T010000
END:STANDARD
END:VTIMEZONE
BEGIN:VEVENT
DTSTART;TZID=Europe/Amsterdam:20250702T100000
DTEND;TZID=Europe/Amsterdam:20250702T170000
DTSTAMP:20260424T094525
CREATED:20250325T201932Z
LAST-MODIFIED:20250516T123256Z
UID:504206-1751450400-1751475600@kicentrum.nl
SUMMARY:Ki-Dag Eemklooster Amersfoort
DESCRIPTION:Deze dag laat je kennismaken met de prachtige kracht van Ki\, waarbij je innerlijke rust kunt vinden en je intuïtie kunt versterken. Ontdek hoe deze levensenergie niet alleen bijdraagt aan je welzijn\, maar je ook therapeutisch kan ondersteunen in tijden van stress en een overvolle geest. \nEen hele dag Ki-kennis en Ki-ervaring in Amersfoort\nDe ultieme Ki-dag met heel veel Ki-oefeningen\, inzichten en een heerlijke lunch tijdens de Ki-dag in Amersfoort. Laat je onderdompelen in Ki en ervaar hoe sterk je geboortekracht is! \nOntdek je Oerkracht met de Ki Dag in het Eemklooster in Amersfoort!\nBen jij klaar om je leven een nieuwe dimensie te geven? Duik een dag lang onder in de wonderlijke wereld van Ki\, de levensenergie die ons allen verbindt en ons in staat stelt om optimaal te functioneren. Op een prachtige locatie\, omringd door de serene natuur van het Eemklooster in Amersfoort\, bieden wij een unieke Ki Dag aan die je niet wilt missen! \nWat kun je verwachten?\nTijdens deze uitgebreide workshop\, geleid door de ervaren Ki Master Hans Peter Roel\, leer je niet alleen de fundamenten van Ki\, maar ervaar je ook hoe je deze principes direct in je dagelijks leven kunt toepassen. Deze dag staat volledig in het teken van jou: je persoonlijke groei\, je welzijn en het verkennen van je oerkracht. \nProgramma\n10:00  Ontvangst met koffie\n10:30  Start Ki-training (basis)\n13:00  Lunch\n14:00  Wandeling op kloosterterrein met Ki-oefeningen\n15:00  Ki-training (verdieping)\n16:30  Vragen\, tips & tricks \nWaarom meedoen?\n– Herontdek je Energie: Maak een stapzijwaarts in je leven en kom weer in contact met je natuurlijke energiestroom.\n– Versterk je Gezondheid: Leer hoe je met Ki je fysieke en mentale gezondheid kunt verbeteren\n– Verbinding met Mededeelnemers: Ontmoet gelijkgestemde zielen die ook op zoek zijn naar groei en verbinding. \nGeef jezelf deze bijzondere ervaring cadeau en ervaar de kracht van Ki. Zien ik jou daar?
URL:https://kicentrum.nl/workshop/ki-dag-eemklooster-amersfoort/
LOCATION:Eemklooster Amersfoort\, Daam Fockemalaan 22\, Amersfoort\, Utrecht\, 3818 KG\, Netherlands
CATEGORIES:Ki Eemklooster,Ki Workshop
ATTACH;FMTTYPE=image/jpeg:https://kicentrum.nl/wp-content/uploads/2025/03/Scherm­afbeelding-2025-03-27-om-16.29.30.jpg
ORGANIZER;CN="N.E.X.T. Company. Workshop gegeven door Hans Peter Roel":MAILTO:info@nextcompany.nl
END:VEVENT
END:VCALENDAR