BEGIN:VCALENDAR
VERSION:2.0
PRODID:-//Ki Centrum - ECPv6.8.2.1//NONSGML v1.0//EN
CALSCALE:GREGORIAN
METHOD:PUBLISH
X-WR-CALNAME:Ki Centrum
X-ORIGINAL-URL:https://kicentrum.nl
X-WR-CALDESC:Evenementen voor Ki Centrum
REFRESH-INTERVAL;VALUE=DURATION:PT1H
X-Robots-Tag:noindex
X-PUBLISHED-TTL:PT1H
BEGIN:VTIMEZONE
TZID:Europe/Amsterdam
BEGIN:DAYLIGHT
TZOFFSETFROM:+0100
TZOFFSETTO:+0200
TZNAME:CEST
DTSTART:20260329T010000
END:DAYLIGHT
BEGIN:STANDARD
TZOFFSETFROM:+0200
TZOFFSETTO:+0100
TZNAME:CET
DTSTART:20261025T010000
END:STANDARD
END:VTIMEZONE
BEGIN:VEVENT
DTSTART;TZID=Europe/Amsterdam:20260214T130000
DTEND;TZID=Europe/Amsterdam:20260214T170000
DTSTAMP:20260424T052111
CREATED:20251013T184633Z
LAST-MODIFIED:20251013T184716Z
UID:713591-1771074000-1771088400@kicentrum.nl
SUMMARY:Ki Workshop
DESCRIPTION:In de Ki workshop leert Hans Peter Roel -de auteur van het boek “Ki” en “Himalaya” – ook jou de kracht van Ki. Kom uit je hoofd en ervaar de rust en kracht in jezelf. Ontsnap aan stress en kom uit je hoofd tijdens de Ki workshop. Laat je leiden naar innerlijke rust en balans\, waar je de kracht van het moment omarmt en stress achter je laat. Ontdek nieuwe wegen om te ontspannen en volledig in het hier en nu te zijn. Vergezel ons op deze reis naar welzijn en laat stress geen grip meer op je hebben. \nStap binnen in de inspirerende wereld van Ki met Hans Peter Roel\, de gerenommeerde auteur van de boeken “Ki” en “Himalaya”\, tijdens zijn verrijkende middagworkshop. Laat de alledaagse drukte achter je en ontdek de rust en innerlijke kracht die in jou schuilt.\nDeel het enthousiasme van de meer dan 15.000 enthousiaste deelnemers die je in de afgelopen vijftien jaar zijn voorgegaan\, met enkel positieve feedback. \nDeze workshop biedt praktische tools en inzichten om vanuit je gedachten naar je gevoelens en lichaam te gaan. Ervaar de wonderbaarlijke verbondenheid die ontstaat wanneer mensen zich laten leiden door de kracht van Ki. Binnen korte tijd vormt elke deelnemersgroep een hechte gemeenschap van ondersteuning en respect\, waarbij jouw levensenergie centraal staat. \nDe Ki workshop omvat:\n– Ervaren van je Ki-kracht\n– Bereiken van rust en helderheid in je gedachten\n– Opwekken van een krachtig en energiek gevoel\n– Ontwikkelen van een krachtige ademhalingstechniek\n– Voelen van verbondenheid met het universum\n– Versterken van je zintuiglijke waarneming voor een intensere beleving\n– Praktische Ki-oefeningen die overal uit te voeren zijn\n– Integratiemethoden om Ki in je dagelijks leven toe te passen. \nDe workshop laat je kennismaken met de prachtige kracht van Ki\, waarbij je innerlijke rust kunt vinden en je intuïtie kunt versterken. Ontdek hoe deze levensenergie niet alleen bijdraagt aan je welzijn\, maar je ook therapeutisch kan ondersteunen in tijden van stress en een overvolle geest. \nIk kijk er naar uit om je te ontmoeten en je in je kracht te zetten!
URL:https://kicentrum.nl/workshop/ki-workshop-19/
LOCATION:Doop-Kerkje Baarn\, Eemnesserweg 63B\, 3743 AE\, Baarn\, Baarn\, Nederland
CATEGORIES:Ki Workshop
ATTACH;FMTTYPE=image/jpeg:https://kicentrum.nl/wp-content/uploads/2025/06/Ki-Workshop.jpg
ORGANIZER;CN="N.E.X.T. Company. Workshop gegeven door Hans Peter Roel":MAILTO:info@nextcompany.nl
END:VEVENT
END:VCALENDAR