BEGIN:VCALENDAR
VERSION:2.0
PRODID:-//Ki Centrum - ECPv6.8.2.1//NONSGML v1.0//EN
CALSCALE:GREGORIAN
METHOD:PUBLISH
X-WR-CALNAME:Ki Centrum
X-ORIGINAL-URL:https://kicentrum.nl
X-WR-CALDESC:Evenementen voor Ki Centrum
REFRESH-INTERVAL;VALUE=DURATION:PT1H
X-Robots-Tag:noindex
X-PUBLISHED-TTL:PT1H
BEGIN:VTIMEZONE
TZID:Europe/Amsterdam
BEGIN:DAYLIGHT
TZOFFSETFROM:+0100
TZOFFSETTO:+0200
TZNAME:CEST
DTSTART:20240331T010000
END:DAYLIGHT
BEGIN:STANDARD
TZOFFSETFROM:+0200
TZOFFSETTO:+0100
TZNAME:CET
DTSTART:20241027T010000
END:STANDARD
BEGIN:DAYLIGHT
TZOFFSETFROM:+0100
TZOFFSETTO:+0200
TZNAME:CEST
DTSTART:20250330T010000
END:DAYLIGHT
BEGIN:STANDARD
TZOFFSETFROM:+0200
TZOFFSETTO:+0100
TZNAME:CET
DTSTART:20251026T010000
END:STANDARD
END:VTIMEZONE
BEGIN:VEVENT
DTSTART;TZID=Europe/Amsterdam:20251025T093000
DTEND;TZID=Europe/Amsterdam:20251025T123000
DTSTAMP:20260424T081441
CREATED:20250602T140327Z
LAST-MODIFIED:20251022T103217Z
UID:635351-1761384600-1761395400@kicentrum.nl
SUMMARY:Workshop: Ontdek de kracht van Ayurveda (Antwerpen)
DESCRIPTION:Tijdelijke actie. Nu van 119 euro naar: 94 euro. (25 euro korting)\nOntdek de Kracht van Ayurveda: Workshop voor Balans en Welzijn!\nIn de Ayurveda workshop ontdek je hoe je jouw gezondheid en welzijn kunt verbeteren door te leren over de dosha’s\, voeding\, meditatie en ademhalingstechnieken\, zodat je in harmonie met je lichaam en geest kunt leven. Ben je op zoek naar een manier om lichaam\, geest en ziel in harmonie te brengen? Sluit je dan aan bij onze inspirerende workshop over Ayurveda\, de eeuwenoude geneeskunde uit India. Ayurveda leert ons hoe we onze levensstijl weer op natuurlijke basis kunnen afstemmen. Je leert je unieke type kennen (dosha’s) en leert van anderen. \nIn deze workshop duiken we in de rijkdom van Ayurveda en ontdekken we hoe je voeding\, kruiden\, meditatie en levensstijl\, gebaseerd op je unieke persoonlijke staat van zijn kunt integreren in je dagelijks leven. Niet alleen bevorder je hiermee je fysieke gezondheid\, maar ook je emotioneel welzijn en spirituele groei.\nLaat je door Hans Peter Roel inspireren en leer hoe je de wijsheid van Ayurveda kunt toepassen om een gebalanceerd en vervuld leven te leiden. Schrijf je vandaag nog in en geef jezelf een groot geschenk in gezondheid\, energie en harmonie! \nDeze inspirerende workshop van 3 uur over Ayurveda biedt jou diepere kennis van deze oude geneeskunde uit India. Je leert hoe je je gezondheid kan behouden en verbeteren. \nDeze workshop wordt gegeven door Hans Peter Roel waarbij er veel persoonlijke aandacht voor jou is. Je leert ook van anderen met dezelfde dosha. \nProgramma:\n1. Inleiding Ayurveda\n    – Wat is Ayurveda?\n– Hoe is het ontstaan en wat is de essentie.\n– De basisprincipes van Ayurveda \n2. Wat is jouw unieke persoonlijke staat van zijn (dosha’s)\n– Uitleg over de drie Dosha’s en hun kenmerken.\n– Het daadwerkelijk bepalen van je unieke persoonlijke staat van zijn (Dosha).\n– Uitwisseling van ervaring met in dosha’s gelijkgestemde deelnemers\n– Hoe word je zo gezond en sterk mogelijk door het toepassen van de Ayurvedische kennis \n3. Balans en Onbalans in Levensstijl en Voeding\n     – Praktische tips en adviezen om je levensstijl en voeding zo goed mogelijk aan te passen aan je unieke staat van zijn .\n– Belang heet water en koper voor je gezondheid\n     – Praktische tips over welke voedingsmiddelen geschikt zijn voor elk type Dosha.\n– De beste Ayurvedische lifestyle voor jou (slaap\, opstaan\, energie\, beweging) \n4. Oeroude Vedische Trancedente Meditatie\n     – Introductie en ervaring met Trancedente meditatie in Ayurveda.\n– Mantra meditatie die afgestemd is op jouw Dosha. \n5. Vedische Ademhalings oefeningen: \n    – De drie belangrijkste Ademhalingstechnieken (Pranayama) en hun voordelen.\n– De krachtige “Box” ademhaling vanuit de onderbuik\n– Neusademhaling (Nadi Shodhana)\n– Vuur Ademhaling (Kapalabhati) \n7. Ayurveda bij grote uitdagingen in het leven:\n– Stress & paniekaanvallen\n– Slaapproblemen\n– Lage weerstand\n– Overgewicht \nHet volgen van deze Ayurveda-workshop leidt niet alleen tot verbeterde fysieke gezondheid\, maar draagt ook bij aan een beter emotioneel en spiritueel welzijn\, wat jouw leven aanzienlijk kan verrijken.
URL:https://kicentrum.nl/workshop/workshop-ontdek-de-kracht-van-ayurveda-antwerpen/
LOCATION:Antwerpen (België)\, Jozef Reusenslei 182\, 2150 Borsbeek\, Antwerpen\, 2150\, België
CATEGORIES:Ayurveda
ATTACH;FMTTYPE=image/jpeg:https://kicentrum.nl/wp-content/uploads/2025/05/Ayurveda-kracht.jpeg
ORGANIZER;CN="N.E.X.T. Company. Workshop gegeven door Hans Peter Roel":MAILTO:info@nextcompany.nl
END:VEVENT
BEGIN:VEVENT
DTSTART;TZID=Europe/Amsterdam:20250613T130000
DTEND;TZID=Europe/Amsterdam:20250613T170000
DTSTAMP:20260424T081441
CREATED:20241017T091000Z
LAST-MODIFIED:20250516T130056Z
UID:498967-1749819600-1749834000@kicentrum.nl
SUMMARY:Ontdek de Kracht van Ayurveda: Workshop voor Balans en Welzijn!
DESCRIPTION:Ontdek de Kracht van Ayurveda: Workshop voor Balans en Welzijn!\nIn de Ayurveda workshop ontdek je hoe je jouw gezondheid en welzijn kunt verbeteren door te leren over de dosha’s\, voeding\, meditatie en ademhalingstechnieken\, zodat je in harmonie met je lichaam en geest kunt leven. Ben je op zoek naar een manier om lichaam\, geest en ziel in harmonie te brengen? Sluit je dan aan bij onze inspirerende workshop over Ayurveda\, de eeuwenoude geneeskunde uit India. Ayurveda leert ons hoe we onze levensstijl weer op natuurlijke basis kunnen afstemmen. Je leert je unieke type kennen (dosha’s) en leert van anderen. \nIn deze workshop duiken we in de rijkdom van Ayurveda en ontdekken we hoe je voeding\, kruiden\, meditatie en levensstijl\, gebaseerd op je unieke persoonlijke staat van zijn kunt integreren in je dagelijks leven. Niet alleen bevorder je hiermee je fysieke gezondheid\, maar ook je emotioneel welzijn en spirituele groei.\nLaat je door Hans Peter Roel inspireren en leer hoe je de wijsheid van Ayurveda kunt toepassen om een gebalanceerd en vervuld leven te leiden. Schrijf je vandaag nog in en geef jezelf een groot geschenk in gezondheid\, energie en harmonie! \nDeze inspirerende workshop van 4 uur over Ayurveda biedt jou diepere kennis van deze oude geneeskunde uit India. Je leert hoe je je gezondheid kan behouden en verbeteren. \nDeze workshop wordt gegeven door Hans Peter Roel waarbij er veel persoonlijke aandacht voor jou is. Je leert ook van anderen met dezelfde dosha. \nProgramma:\n1. Inleiding Ayurveda\n    – Wat is Ayurveda?\n– Hoe is het ontstaan en wat is de essentie.\n– De basisprincipes van Ayurveda \n2. Wat is jouw unieke persoonlijke staat van zijn (dosha’s)\n– Uitleg over de drie Dosha’s en hun kenmerken.\n– Het daadwerkelijk bepalen van je unieke persoonlijke staat van zijn (Dosha).\n– Uitwisseling van ervaring met in dosha’s gelijkgestemde deelnemers\n– Hoe word je zo gezond en sterk mogelijk door het toepassen van de Ayurvedische kennis \n3. Balans en Onbalans in Levensstijl en Voeding\n     – Praktische tips en adviezen om je levensstijl en voeding zo goed mogelijk aan te passen aan je unieke staat van zijn .\n– Belang heet water en koper voor je gezondheid\n     – Praktische tips over welke voedingsmiddelen geschikt zijn voor elk type Dosha.\n– De beste Ayurvedische lifestyle voor jou (slaap\, opstaan\, energie\, beweging) \n4. Oeroude Vedische Trancedente Meditatie\n     – Introductie en ervaring met Trancedente meditatie in Ayurveda.\n– Mantra meditatie die afgestemd is op jouw Dosha. \n5. Vedische Ademhalings oefeningen: \n    – De drie belangrijkste Ademhalingstechnieken (Pranayama) en hun voordelen.\n– De krachtige “Box” ademhaling vanuit de onderbuik\n– Neusademhaling (Nadi Shodhana)\n– Vuur Ademhaling (Kapalabhati) \n7. Ayurveda bij grote uitdagingen in het leven:\n– Stress & paniekaanvallen\n– Slaapproblemen\n– Lage weerstand\n– Overgewicht \nHet volgen van deze Ayurveda-workshop leidt niet alleen tot verbeterde fysieke gezondheid\, maar draagt ook bij aan een beter emotioneel en spiritueel welzijn\, wat jouw leven aanzienlijk kan verrijken. \nDe workshop wordt gegeven in het mystieke Witte Kerkje in Baarn (gratis parkeren)
URL:https://kicentrum.nl/workshop/ontdek-de-kracht-van-ayurveda-workshop-voor-balans-en-welzijn/
LOCATION:Doop-Kerkje Baarn\, Eemnesserweg 63B\, 3743 AE\, Baarn\, Baarn\, Nederland
CATEGORIES:Ayurveda
ATTACH;FMTTYPE=image/jpeg:https://kicentrum.nl/wp-content/uploads/2024/09/Scherm­afbeelding-2024-09-05-om-13.11.55.jpg
ORGANIZER;CN="N.E.X.T. Company. Workshop gegeven door Hans Peter Roel":MAILTO:info@nextcompany.nl
END:VEVENT
BEGIN:VEVENT
DTSTART;TZID=Europe/Amsterdam:20241108T130000
DTEND;TZID=Europe/Amsterdam:20241108T170000
DTSTAMP:20260424T081441
CREATED:20240905T105642Z
LAST-MODIFIED:20240905T111655Z
UID:497650-1731070800-1731085200@kicentrum.nl
SUMMARY:Workshop Ayurveda
DESCRIPTION:Ayurveda Workshop\nAyurveda is een eeuwenoude geneeskunde die de nadruk legt op het in balans brengen van lichaam\, geest en ziel door middel van natuurlijke remedies en leefstijlveranderingen. Het systeem is gebaseerd op de unieke constitutionele typen (dosha’s) van elk individu\, wat helpt bij het personaliseren van behandelingen en begeleiding. Door de integratie van voeding\, kruiden\, meditatie en yogapraktijken bevordert Ayurveda niet alleen fysieke gezondheid\, maar ook emotioneel welzijn en spirituele groei. \nDeze inspirerende workshop van 4 uur over Ayurveda biedt jou diepere kennis van deze oude geneeskunde uit India. Je leert hoe je je gezondheid op lange termijn kan behouden en verbeteren. \nDeze workshop wordt gegeven door Hans Peter Roel waarbij er persoonlijke aandacht voor jou is. \nProgramma:\n1. Inleiding Ayurveda \n   – Wat is Ayurveda? \n   – Geschiedenis en oorsprong. \n   – De drie basisprincipes van Ayurveda  \n2. Dosha Identificatie \n   – Uitleg over de drie Dosha’s en hun kenmerken. \n   – Self-assessment quiz om te helpen bij het bepalen van de persoonlijke Dosha. \n   – Uitwisseling van ervaring gelijkgestemde dosha’s \n   – De Do’s en Don’t per dosha \n3. Levensstijl en Voeding \n   – Discussie over het belang van voeding en levensstijl in Ayurveda. \n   – Belang heet water en koper \n   – Praktische tips over welke voedingsmiddelen geschikt zijn voor elk type Dosha. \n   – Ayurvedische lifestyle (slaap\, opstaan\, energie\, beweging) \n4. Meditatie: \n   – Introductie en ervaring met Trancedente meditatie in Ayurveda. \n   – Meditatie-oefening die afgestemd is op jouw Dosha. \n5. Kruiden en Natuurlijke Remedies: \n   – Uitleg van de meest belangrijke Ayurvedische kruiden en hun gezondheidsvoordelen. \n   – Hoe je kruiden veilig kunt integreren in je dagelijkse routine. \n6. Ademhaling: \n   – Ademhalingstechnieken (Pranayama) en hun voordelen. \n7. Ayurveda bij uitdagingen in het leven: \n   – Stress & paniekaanvallen \n   – Slaapproblemen\n   – Lage weerstand \n   – Overgewicht \n8. Groepsdiscussie\, Q&A en Ervaringen Delen: \n   – Een open forum waar deelnemers hun ervaringen en vragen kunnen delen. \nHet volgen van deze Ayurveda-workshop leidt niet alleen tot verbeterde fysieke gezondheid\, maar draagt ook bij aan een beter emotioneel en spiritueel welzijn\, wat jouw leven aanzienlijk kan verrijken. \nDe workshop wordt gegeven in het mystieke Witte Kerkje in Baarn (gratis parkeren)
URL:https://kicentrum.nl/workshop/workshop-ayurveda/
LOCATION:Het witte kerkje in Baarn\, Kampstraat 8\, Baarn\, Nederland
CATEGORIES:Ayurveda
ATTACH;FMTTYPE=image/png:https://kicentrum.nl/wp-content/uploads/2024/09/Scherm­afbeelding-2024-09-05-om-12.53.49.png
ORGANIZER;CN="N.E.X.T. Company. Workshop gegeven door Hans Peter Roel":MAILTO:info@nextcompany.nl
END:VEVENT
END:VCALENDAR