BEGIN:VCALENDAR
VERSION:2.0
PRODID:-//Ki Centrum - ECPv6.8.2.1//NONSGML v1.0//EN
CALSCALE:GREGORIAN
METHOD:PUBLISH
X-WR-CALNAME:Ki Centrum
X-ORIGINAL-URL:https://kicentrum.nl
X-WR-CALDESC:Evenementen voor Ki Centrum
REFRESH-INTERVAL;VALUE=DURATION:PT1H
X-Robots-Tag:noindex
X-PUBLISHED-TTL:PT1H
BEGIN:VTIMEZONE
TZID:Europe/Amsterdam
BEGIN:DAYLIGHT
TZOFFSETFROM:+0100
TZOFFSETTO:+0200
TZNAME:CEST
DTSTART:20250330T010000
END:DAYLIGHT
BEGIN:STANDARD
TZOFFSETFROM:+0200
TZOFFSETTO:+0100
TZNAME:CET
DTSTART:20251026T010000
END:STANDARD
END:VTIMEZONE
BEGIN:VEVENT
DTSTART;TZID=Europe/Amsterdam:20251203T100000
DTEND;TZID=Europe/Amsterdam:20251203T170000
DTSTAMP:20260424T063121
CREATED:20251001T125905Z
LAST-MODIFIED:20251016T165438Z
UID:710429-1764756000-1764781200@kicentrum.nl
SUMMARY:Ki-dag Abdij Averbode België
DESCRIPTION:Ontdek je Oerkracht met de Ki Dag in Abdij Averbode!\nBen jij klaar om je leven een nieuwe dimensie te geven? Duik een dag lang onder in de wonderlijke wereld van Ki\, de levensenergie die ons allen verbindt en ons in staat stelt om optimaal te functioneren. Op een prachtige locatie\, omringd door de serene natuur van Abdij Averbode in België\, bieden wij een unieke Ki Dag aan die je niet wilt missen! \nWat kun je verwachten?\nTijdens deze uitgebreide workshop\, geleid door de ervaren Ki Master Hans Peter Roel\, leer je niet alleen de fundamenten van Ki\, maar ervaar je ook hoe je deze principes direct in je dagelijks leven kunt toepassen. Deze dag staat volledig in het teken van jou: je persoonlijke groei\, je welzijn en het verkennen van je oerkracht. \nProgramma\n10:00  Ontvangst met koffie\n10:30  Start Ki-training (basis)\n13:00  Lunch\n14:00  Wandeling in natuur met Ki-oefeningen\n15:00  Ki-training (verdieping)\n16:30  Vragen\, tips & tricks \nWaarom meedoen?\n– Herontdek je Energie: Maak een stapzijwaarts in je leven en kom weer in contact met je natuurlijke energiestroom.\n– Versterk je Gezondheid: Leer hoe je met Ki je fysieke en mentale gezondheid kunt verbeteren\n– Verbinding met Mededeelnemers: Ontmoet gelijkgestemde zielen die ook op zoek zijn naar groei en verbinding. \nDeze dag laat je kennismaken met de prachtige kracht van Ki\, waarbij je innerlijke rust kunt vinden en je intuïtie kunt versterken. Ontdek hoe deze levensenergie niet alleen bijdraagt aan je welzijn\, maar je ook therapeutisch kan ondersteunen in tijden van stress en een overvolle geest. \nGeef jezelf deze bijzondere ervaring cadeau en ervaar de kracht van Ki. Zie ik jou daar?
URL:https://kicentrum.nl/workshop/ki-dag-abdij-averbode-belgie-2/
LOCATION:Abdij van Averbode\, Abdijstraat 1\, B-3271 Averbode\, Belgium
CATEGORIES:Ki averbode,Ki Workshop
ATTACH;FMTTYPE=image/jpeg:https://kicentrum.nl/wp-content/uploads/2025/05/abdij-averbode.jpeg
ORGANIZER;CN="N.E.X.T. Company. Workshop gegeven door Hans Peter Roel":MAILTO:info@nextcompany.nl
END:VEVENT
BEGIN:VEVENT
DTSTART;TZID=Europe/Amsterdam:20251031T100000
DTEND;TZID=Europe/Amsterdam:20251031T170000
DTSTAMP:20260424T063121
CREATED:20250604T175727Z
LAST-MODIFIED:20251001T143443Z
UID:636313-1761904800-1761930000@kicentrum.nl
SUMMARY:Ki-Dag\, Abdij Averbode België
DESCRIPTION:Ontdek je Oerkracht met de Ki Dag in Abdij Averbode!\nBen jij klaar om je leven een nieuwe dimensie te geven? Duik een dag lang onder in de wonderlijke wereld van Ki\, de levensenergie die ons allen verbindt en ons in staat stelt om optimaal te functioneren. Op een prachtige locatie\, omringd door de serene natuur van Abdij Averbode in België\, bieden wij een unieke Ki Dag aan die je niet wilt missen! \nWat kun je verwachten?\nTijdens deze uitgebreide workshop\, geleid door de ervaren Ki Master Hans Peter Roel\, leer je niet alleen de fundamenten van Ki\, maar ervaar je ook hoe je deze principes direct in je dagelijks leven kunt toepassen. Deze dag staat volledig in het teken van jou: je persoonlijke groei\, je welzijn en het verkennen van je oerkracht. \nProgramma\n10:00  Ontvangst met koffie\n10:30  Start Ki-training (basis)\n13:00  Lunch\n14:00  Wandeling in natuur met Ki-oefeningen\n15:00  Ki-training (verdieping)\n16:30  Vragen\, tips & tricks \nWaarom meedoen?\n– Herontdek je Energie: Maak een stapzijwaarts in je leven en kom weer in contact met je natuurlijke energiestroom.\n– Versterk je Gezondheid: Leer hoe je met Ki je fysieke en mentale gezondheid kunt verbeteren\n– Verbinding met Mededeelnemers: Ontmoet gelijkgestemde zielen die ook op zoek zijn naar groei en verbinding. \nDeze dag laat je kennismaken met de prachtige kracht van Ki\, waarbij je innerlijke rust kunt vinden en je intuïtie kunt versterken. Ontdek hoe deze levensenergie niet alleen bijdraagt aan je welzijn\, maar je ook therapeutisch kan ondersteunen in tijden van stress en een overvolle geest. \nGeef jezelf deze bijzondere ervaring cadeau en ervaar de kracht van Ki. Zie ik jou daar?
URL:https://kicentrum.nl/workshop/ki-dag-abdij-averbode-belgie/
LOCATION:Abdij van Averbode\, Abdijstraat 1\, B-3271 Averbode\, Belgium
CATEGORIES:Ki averbode,Ki Workshop
ATTACH;FMTTYPE=image/jpeg:https://kicentrum.nl/wp-content/uploads/2025/05/abdij-averbode.jpeg
ORGANIZER;CN="N.E.X.T. Company. Workshop gegeven door Hans Peter Roel":MAILTO:info@nextcompany.nl
END:VEVENT
BEGIN:VEVENT
DTSTART;TZID=Europe/Amsterdam:20250606T100000
DTEND;TZID=Europe/Amsterdam:20250606T170000
DTSTAMP:20260424T063121
CREATED:20241231T143522Z
LAST-MODIFIED:20250604T174830Z
UID:500969-1749204000-1749229200@kicentrum.nl
SUMMARY:Ki-Dag\, Abdij Averbode België
DESCRIPTION:Ontdek je Oerkracht met de Ki Dag in Abdij Averbode!\nBen jij klaar om je leven een nieuwe dimensie te geven? Duik een dag lang onder in de wonderlijke wereld van Ki\, de levensenergie die ons allen verbindt en ons in staat stelt om optimaal te functioneren. Op een prachtige locatie\, omringd door de serene natuur van Abdij Averbode in België\, bieden wij een unieke Ki Dag aan die je niet wilt missen! \nWat kun je verwachten?\nTijdens deze uitgebreide workshop\, geleid door de ervaren Ki Master Hans Peter Roel\, leer je niet alleen de fundamenten van Ki\, maar ervaar je ook hoe je deze principes direct in je dagelijks leven kunt toepassen. Deze dag staat volledig in het teken van jou: je persoonlijke groei\, je welzijn en het verkennen van je oerkracht. \nProgramma\n10:00  Ontvangst met koffie\n10:30  Start Ki-training (basis)\n13:00  Lunch\n14:00  Wandeling in natuur met Ki-oefeningen\n15:00  Ki-training (verdieping)\n16:30  Vragen\, tips & tricks \nWaarom meedoen?\n– Herontdek je Energie: Maak een stapzijwaarts in je leven en kom weer in contact met je natuurlijke energiestroom.\n– Versterk je Gezondheid: Leer hoe je met Ki je fysieke en mentale gezondheid kunt verbeteren\n– Verbinding met Mededeelnemers: Ontmoet gelijkgestemde zielen die ook op zoek zijn naar groei en verbinding. \nDeze dag laat je kennismaken met de prachtige kracht van Ki\, waarbij je innerlijke rust kunt vinden en je intuïtie kunt versterken. Ontdek hoe deze levensenergie niet alleen bijdraagt aan je welzijn\, maar je ook therapeutisch kan ondersteunen in tijden van stress en een overvolle geest. \nGeef jezelf deze bijzondere ervaring cadeau en ervaar de kracht van Ki. Zie ik jou daar?
URL:https://kicentrum.nl/workshop/ki-master-workshop-abdij-averbode-belgie/
LOCATION:Abdij van Averbode\, Abdijstraat 1\, B-3271 Averbode\, Belgium
CATEGORIES:Ki averbode
ATTACH;FMTTYPE=image/png:https://kicentrum.nl/wp-content/uploads/2024/12/Scherm­afbeelding-2024-12-31-om-15.34.50.png
ORGANIZER;CN="N.E.X.T. Company. Workshop gegeven door Hans Peter Roel":MAILTO:info@nextcompany.nl
END:VEVENT
END:VCALENDAR