BEGIN:VCALENDAR
VERSION:2.0
PRODID:-//Ki Centrum - ECPv6.8.2.1//NONSGML v1.0//EN
CALSCALE:GREGORIAN
METHOD:PUBLISH
X-WR-CALNAME:Ki Centrum
X-ORIGINAL-URL:https://kicentrum.nl
X-WR-CALDESC:Evenementen voor Ki Centrum
REFRESH-INTERVAL;VALUE=DURATION:PT1H
X-Robots-Tag:noindex
X-PUBLISHED-TTL:PT1H
BEGIN:VTIMEZONE
TZID:Europe/Amsterdam
BEGIN:DAYLIGHT
TZOFFSETFROM:+0100
TZOFFSETTO:+0200
TZNAME:CEST
DTSTART:20240331T010000
END:DAYLIGHT
BEGIN:STANDARD
TZOFFSETFROM:+0200
TZOFFSETTO:+0100
TZNAME:CET
DTSTART:20241027T010000
END:STANDARD
BEGIN:DAYLIGHT
TZOFFSETFROM:+0100
TZOFFSETTO:+0200
TZNAME:CEST
DTSTART:20250330T010000
END:DAYLIGHT
BEGIN:STANDARD
TZOFFSETFROM:+0200
TZOFFSETTO:+0100
TZNAME:CET
DTSTART:20251026T010000
END:STANDARD
BEGIN:DAYLIGHT
TZOFFSETFROM:+0100
TZOFFSETTO:+0200
TZNAME:CEST
DTSTART:20260329T010000
END:DAYLIGHT
BEGIN:STANDARD
TZOFFSETFROM:+0200
TZOFFSETTO:+0100
TZNAME:CET
DTSTART:20261025T010000
END:STANDARD
END:VTIMEZONE
BEGIN:VEVENT
DTSTART;TZID=Europe/Amsterdam:20260321T180000
DTEND;TZID=Europe/Amsterdam:20260323T170000
DTSTAMP:20260424T092513
CREATED:20241111T134551Z
LAST-MODIFIED:20251123T091905Z
UID:499611-1774116000-1774285200@kicentrum.nl
SUMMARY:Abdij Retreat Ki\, Kundalini\, Ayurveda en Manifesteren
DESCRIPTION:Abdij Retreat (2\,5 dag)\nOntketen je Kracht & Heel Jezelf\nKi\, Kundalini\, Ayurveda & Manifesteren.\nKrachtig\, Helend\, Fascinerend & Praktisch. \nIn 2\,5 dagen begeleidt Hans Peter Roel je in een unieke retreat waar Ki\, Kundalini\, Ayurveda en Manifesteren samenkomen tot één krachtig en helend geheel.\nJe ontdekt hoe je jouw mentale\, emotionele en fysieke kracht opnieuw ontketent en terugkeert naar wie je werkelijk bent. \nIn een kleine groep\, met maximale persoonlijke begeleiding\, ervaar je rust\, helderheid en diepe innerlijke kracht. Je gaat sterker\, vrijer en energieker naar huis. \n\nKundalini\, Je helende en vernieuwende kracht\nTijdens het retreat leer je hoe je de stille\, opwaartse Kundalini-energie veilig en bewust activeert.\nDit is de natuurlijke genezende kracht die: \n\nblokkades oplost\nje lichaam reset en je chakra’s opent\nje intuïtie versterkt\nje energie zuivert en vernieuwt\nje terugbrengt naar je essentie\n\nKundalini vormt de diepe helende kern van je transformatie. \n\nKi\, Innerlijke kracht & stressbeheersing\nKi is de oerkracht die door je lichaam stroomt en je beschermt\, versterkt en centreert.\nJe leert hoe je Ki praktisch inzet om: \n\ndirecte fysieke stabiliteit te ervaren\nstress los te laten in seconden\nje energieveld te versterken\ngrenzen te bewaken\nkrachtig en gegrond te blijven in uitdagende situaties\n\nKi brengt je terug in je midden\, gegrond\, helder en stevig. \n\nAyurveda\, Je natuurlijke balans & energiehuishouding\nAyurveda wordt door het hele retreat heen verweven als basis voor balans en vitaliteit.\nJe ontdekt: \n\njouw persoonlijke energetische constitutie\nwelke voeding\, ritme en micro-rituelen jouw energie onmiddellijk versterken\nhoe je met kleine aanpassingen je Ki en Kundalini-stroom ondersteunt\nhoe lichaam\, geest en energie tot één coherent veld worden\n\nMet Ayurveda maak je je transformatie duurzaam en natuurlijk. \n\nManifesteren\, Mentale kracht & dromen realiseren\nManifesteren wordt praktisch\, helder en toepasbaar gemaakt.\nJe leert: \n\nhoe je gedachten werkelijkheid vormen\nhoe je jouw trilling verhoogt zodat kansen zich vanzelf aandienen\nhoe je blokkades vervangt door innerlijke helderheid\nhoe je jouw toekomst creëert vanuit kracht in plaats van angst\nhoe je een praktisch\, persoonlijk Manifestatieplan maakt\n\nJe ontdekt hoe je jouw doel werkelijk laat ontstaan vanuit jouw innerlijke kracht\, niet vanuit wilskracht. \n\nProgramma & Praktische Informatie\nPrijs: € 669\,-\n(Incl. programma\, persoonlijke begeleiding\, koffie/thee de hele dag\, lunch Excl. reiskosten\, slapen\, ontbijt\, avondeten\, transport) \nTrainer: Hans Peter Roel\nLocatie: Abdij Rolduc\, Kerkrade\n(Boek goedkoop je kamer rechtstreeks bij de Abdij of via Booking.com) \n\nProgramma-overzicht\nStartavond: zaterdagavond 21 maart 2026\n\nKennismaken\nPersoonlijke doelstellingen\nAyurveda: je energetische blauwdruk\n\n\nDag 1: zondag 22 maart 2026\nOchtend \n\nMindset & mentale kracht\nKi Workshop (deel 1)\n\nMiddag \n\nKundalini Workshop\, activering van helende kracht\nCoaching & Q&A\n\n\nDag 2: maandag 23 maart 2026\nOchtend \n\nKi Workshop (deel 2)\nManifesteren\, dromen vertalen naar creatiekracht\n\nMiddag \n\nAyurvedische balanssessie\nPersoonlijk Manifestatieplan\nEvaluatie doelstellingen\n\n\nOntketen je kracht. Heel jezelf. Stap in je nieuwe energie.\nIn de eeuwenoude stilte van Abdij Rolduc ontdek je hoe je jouw energie\, balans en helende kracht opnieuw activeert. \nKundalini heelt.\nKi versterkt.\nAyurveda balanceert.\nManifesteren creëert. \nDit is jouw moment om te groeien\, te openen en opnieuw te gaan stralen!
URL:https://kicentrum.nl/workshop/abdij-retreat-ki-kundalini-ayurveda-en-manifesteren/
LOCATION:Abdij Rolduc\, Heyendallaan 82\, Kerkrade\, Limburg\, 6464 EP\, Nederland
CATEGORIES:Ontketen je kracht
ATTACH;FMTTYPE=image/png:https://kicentrum.nl/wp-content/uploads/2024/06/Scherm­afbeelding-2024-09-29-om-20.41.22.png
ORGANIZER;CN="N.E.X.T. Company. Workshop gegeven door Hans Peter Roel":MAILTO:info@nextcompany.nl
END:VEVENT
BEGIN:VEVENT
DTSTART;TZID=Europe/Amsterdam:20241104T180000
DTEND;TZID=Europe/Amsterdam:20241106T170000
DTSTAMP:20260424T092513
CREATED:20240620T192228Z
LAST-MODIFIED:20241031T181206Z
UID:495128-1730743200-1730912400@kicentrum.nl
SUMMARY:Abdij retreat "Ontketen je kracht"
DESCRIPTION:Abdij retreat “Ontketen je kracht” \nKrachtig\, fascinerend\, praktisch\nIn 2\,5 dag leert Hans Peter Roel je mentale\, emotionele en fysieke kracht opnieuw te ontketenen. In een kleine groep krijg je alle aandacht en ontdek je hoeveel kracht er in jou huist. Je gaat sterker naar huis en hebt handvatten om die kracht vast te houden in je leven. \nOntdek jouw oorspronkelijke kracht!\nGeboren worden in kracht\, maar onderweg verloren raken door stress en in je hoofd zitten is een bekend verhaal. Maar wat als ik je zou vertellen dat je die kracht kunt herwinnen in slechts 2\,5 dagen? Met de juiste technieken zoals Ki\, Kundalini en Manifesteren\, leer je hoe je terug kunt keren naar je ware essentie en weer in verbinding kunt komen met je innerlijke kracht. Laat ons je begeleiden op deze transformatieve reis naar zelfrealisatie en empowerment. Dus maak je klaar om te stralen\, om de wereld met hernieuwde energie en vastberadenheid tegemoet te treden. Jouw kracht wacht op jou – ben je er klaar voor om deze te herontdekken? \nPrijs Abdij retreat “Ontketen je kracht”:\n€ 649\,- voor het programma (excl. reiskosten\, ontbijt en avondeten\, slapen\, transport)\nInclusief: training\, hele dag koffie thee\, lunch \nTrainer\nHans Peter Roel \nLocatie\nAbdij Rolduc\, Kerkrade\nAdres: Heyendallaan 82\, 6464 EP Kerkrade\nTelefoon: 045 546 6888\n(kamers te reserveren rechtstreeks bij de abdij of via Booking.com) \nStart met avondprogramma (maandag 4 november 2024) : \n\nKennismaken\nPersoonlijke doelstelling bepalen\n\nDag 1 (dinsdag 5 november 2024) \n\nOchtend 4 uur Ki\nMiddag 4 uur Kundalini\nGezamenlijke coaching en vragen\n\nDag 2 (woensdag 6 november 2024) \n\nOchtend Manifesteren\, mentale kracht\nMiddag Persoonlijke manifestatie Plan\nEvaluatie doelstellingen\n\nStap in je kracht met deze unieke Abdij retreat “Ontketen je kracht”!\nOntdek een holistische aanpak die jou fysiek\, mentaal en spiritueel versterkt. Laat je leiden door Hans Peter Roel om met diepgaande kennis en praktische tools om het beste uit jezelf te halen. Klaar om je volledige potentieel te omarmen? Deze retreat is jouw sleutel tot transformatie en groei. Kom naar de Abdij en laat jouw innerlijke kracht stralen!
URL:https://kicentrum.nl/workshop/abdij-retreat-ontketen-je-kracht/
LOCATION:Abdij Rolduc\, Heyendallaan 82\, Kerkrade\, Limburg\, 6464 EP\, Nederland
CATEGORIES:Ontketen je kracht
ATTACH;FMTTYPE=image/png:https://kicentrum.nl/wp-content/uploads/2024/06/Scherm­afbeelding-2024-09-29-om-20.41.22.png
ORGANIZER;CN="N.E.X.T. Company. Workshop gegeven door Hans Peter Roel":MAILTO:info@nextcompany.nl
END:VEVENT
END:VCALENDAR