BEGIN:VCALENDAR
VERSION:2.0
PRODID:-//Ki Centrum - ECPv6.8.2.1//NONSGML v1.0//EN
CALSCALE:GREGORIAN
METHOD:PUBLISH
X-WR-CALNAME:Ki Centrum
X-ORIGINAL-URL:https://kicentrum.nl
X-WR-CALDESC:Evenementen voor Ki Centrum
REFRESH-INTERVAL;VALUE=DURATION:PT1H
X-Robots-Tag:noindex
X-PUBLISHED-TTL:PT1H
BEGIN:VTIMEZONE
TZID:Europe/Amsterdam
BEGIN:DAYLIGHT
TZOFFSETFROM:+0100
TZOFFSETTO:+0200
TZNAME:CEST
DTSTART:20260329T010000
END:DAYLIGHT
BEGIN:STANDARD
TZOFFSETFROM:+0200
TZOFFSETTO:+0100
TZNAME:CET
DTSTART:20261025T010000
END:STANDARD
END:VTIMEZONE
BEGIN:VEVENT
DTSTART;TZID=Europe/Amsterdam:20260506T130000
DTEND;TZID=Europe/Amsterdam:20260506T170000
DTSTAMP:20260424T052259
CREATED:20251211T190615Z
LAST-MODIFIED:20260106T182522Z
UID:728951-1778072400-1778086800@kicentrum.nl
SUMMARY:Doorbraak Workshop Manifesteren
DESCRIPTION:MANIFESTEREN: De workshop die je leven in beweging zet\nEen doorbraakmiddag  die blijft. \nBen je er klaar voor om eindelijk te realiseren wat je diep van binnen al zo lang voelt?In de Manifesteren Workshop ontdek je precies hoe je je dromen\, wensen en doelen omzet in concrete resultaten. Je leert niet alleen wat je moet doen\, maar vooral hoe je in de juiste staat van bewustzijn komt om moeiteloos te creëren. \nDeze workshop wordt gegeven door Hans Peter Roel\, schrijver van het boek Manifesteren. Hij is iemand die als geen ander weet hoe je dromen werkelijkheid maakt. Niet vanuit theorie\, maar vanuit ervaring\, praktijk en duizenden begeleide trainingen. Je leert dus rechtstreeks van iemand die het pad zélf heeft gelopen. \nWat je gaat ontdekken:\n\n\nDe 7 universele wetten van het kwantumveld – en hoe je ze inzet om synchroniciteit\, kansen en overvloed naar je toe te trekken. \n\n\nDe kracht van intuïtie – zodat je precies voelt welke keuzes jouw droomleven ondersteunen. \n\n\nHoe je zelfopgelegde beperkingen doorbreekt – en stopt met denken vanuit angst of tekort. \n\n\nCreator of klager? Je ontdekt jouw manifestatieprofiel en hoe je stap voor stap verschuift naar het profiel van een krachtige creator. \n\n\nKristalhelder worden over je wensen – en wat je écht wilt manifesteren. \n\n\nInnerlijke conflicten oplossen – zodat alles in jou ‘ja’ zegt tegen je doel. \n\n\nEen concreet manifestatieplan – dat je meteen kunt toepassen en waarmee je direct momentum opbouwt. \n\n\nWaarom deze workshop anders is dan alles wat je eerder probeerde\nOmdat je werkt met inzichten\, technieken en wetmatigheden die hun kracht keer op keer hebben bewezen — én omdat je begeleid wordt door iemand die zélf zijn leven heeft gecreëerd door te doen wat hij nu onderwijst. \nJe combineert intuïtie met praktische strategie.Je verbindt verlangen met doelgerichte actie.En je creëert van binnenuit een veld waarin jouw dromen als vanzelf naar je toe bewegen. \nNa deze 4 uur:\n\n\nWeet je precies wat je wilt en waarom. \n\n\nHeb je een plan én de innerlijke kracht om het waar te maken. \n\n\nVoel je een diep vertrouwen dat jouw droomleven mogelijk is. \n\n\nBen je in een hogere staat van creatie gekomen — klaar om te manifesteren wat je werkelijk verlangt. \n\n\n\nIk kijk ernaar uit je te ontmoeten in deze inspirerende workshop.Doe mee\, stap in je creatiekracht en ontdek hoe krachtig manifesteren wordt wanneer je het leert van iemand die het ook écht leeft. \nDit is jouw moment. Dit is jouw beweging. Dit is jouw nieuwe begin.
URL:https://kicentrum.nl/workshop/doorbraak-workshop-manifesteren/
LOCATION:Doop-Kerkje Baarn\, Eemnesserweg 63B\, 3743 AE\, Baarn\, Baarn\, Nederland
CATEGORIES:Workshop manifesteren
ATTACH;FMTTYPE=image/jpeg:https://kicentrum.nl/wp-content/uploads/2025/05/workshop-manifesteren.jpeg
ORGANIZER;CN="N.E.X.T. Company. Workshop gegeven door Hans Peter Roel":MAILTO:info@nextcompany.nl
END:VEVENT
END:VCALENDAR